BEGIN:VCALENDAR
VERSION:2.0
PRODID:-//pretix//SWD-EC_Tickets//
BEGIN:VTIMEZONE
TZID:Europe/Berlin
BEGIN:STANDARD
DTSTART:20001029T040000
RRULE:FREQ=YEARLY;BYDAY=-1SU;BYMONTH=10
TZNAME:CET
TZOFFSETFROM:+0200
TZOFFSETTO:+0100
END:STANDARD
BEGIN:DAYLIGHT
DTSTART:20000326T030000
RRULE:FREQ=YEARLY;BYDAY=-1SU;BYMONTH=3
TZNAME:CEST
TZOFFSETFROM:+0100
TZOFFSETTO:+0200
END:DAYLIGHT
END:VTIMEZONE
BEGIN:VEVENT
UID:pretix-swdec-theologie-2026-0@tickets.swdec.de
DTSTART;TZID=Europe/Berlin:20260925T183000
DTEND;TZID=Europe/Berlin:20260927T123000
DESCRIPTION:Tickets: https://tickets.swdec.de/swdec/theologie-2026/\nVerans
 talter: SWDEC
DTSTAMP:20260423T092927Z
LOCATION:FSZ Dobel
SUMMARY:Theologie-Grundlagen
END:VEVENT
END:VCALENDAR
