BEGIN:VCALENDAR
VERSION:2.0
PRODID:-//pretix//SWD-EC_Tickets//
BEGIN:VTIMEZONE
TZID:Europe/Berlin
BEGIN:STANDARD
DTSTART:20001029T040000
RRULE:FREQ=YEARLY;BYDAY=-1SU;BYMONTH=10
TZNAME:CET
TZOFFSETFROM:+0200
TZOFFSETTO:+0100
END:STANDARD
BEGIN:DAYLIGHT
DTSTART:20000326T030000
RRULE:FREQ=YEARLY;BYDAY=-1SU;BYMONTH=3
TZNAME:CEST
TZOFFSETFROM:+0100
TZOFFSETTO:+0200
END:DAYLIGHT
END:VTIMEZONE
BEGIN:VEVENT
UID:pretix-kvmm-roundnet2026-0@tickets.swdec.de
DTSTART;TZID=Europe/Berlin:20260604T100000
DTEND;TZID=Europe/Berlin:20260604T140000
DESCRIPTION:Tickets: https://tickets.swdec.de/kvmm/roundnet2026/\nVeranstal
 ter: EC Kreisverband Mühlacker-Mühlhausen
DTSTAMP:20260421T100952Z
LOCATION:TSV Großglattbach\, Rasenplatz\, mit gemeinsamem Mittagessen zum 
 Abschluss\, (Genaue Infos folgen)
SUMMARY:Roundnet Turnier 2026
END:VEVENT
BEGIN:VEVENT
UID:pretix-kvmm-bjf2026-0@tickets.swdec.de
DTSTART;TZID=Europe/Berlin:20260801T130000
DTEND;TZID=Europe/Berlin:20260808T073000
DESCRIPTION:Tickets: https://tickets.swdec.de/kvmm/bjf2026/\nVeranstalter: 
 EC Kreisverband Mühlacker-Mühlhausen
DTSTAMP:20260421T100952Z
LOCATION:Im Steigle\, 74343 Sachsenheim
SUMMARY:Jungscharfreizeit für Jungen 2026
END:VEVENT
BEGIN:VEVENT
UID:pretix-kvmm-kfz2026-0@tickets.swdec.de
DTSTART;TZID=Europe/Berlin:20260801T140000
DTEND;TZID=Europe/Berlin:20260808T090000
DESCRIPTION:Tickets: https://tickets.swdec.de/kvmm/kfz2026/\nVeranstalter: 
 EC Kreisverband Mühlacker-Mühlhausen
DTSTAMP:20260421T100952Z
LOCATION:Freizeitheim Mühlhausen/Enz\, Reichardtstraße 21\, 75417 Mühlac
 ker
SUMMARY:Kinderfreizeit 2026
END:VEVENT
BEGIN:VEVENT
UID:pretix-kvmm-mjf2026-0@tickets.swdec.de
DTSTART;TZID=Europe/Berlin:20260803T130000
DTEND;TZID=Europe/Berlin:20260809T060000
DESCRIPTION:Tickets: https://tickets.swdec.de/kvmm/mjf2026/\nVeranstalter: 
 EC Kreisverband Mühlacker-Mühlhausen
DTSTAMP:20260421T100952Z
LOCATION:Landheim Unterhöllgrund\, Unterhöllgrund 13-18\, 69429 Waldbrunn
  - Unterhöllgrund
SUMMARY:Jungscharfreizeit für Mädchen 2026
END:VEVENT
BEGIN:VEVENT
UID:pretix-kvmm-fok2026-0@tickets.swdec.de
DTSTART;TZID=Europe/Berlin:20260810T090000
DTEND;TZID=Europe/Berlin:20260814T183000
DESCRIPTION:Tickets: https://tickets.swdec.de/kvmm/fok2026/\nVeranstalter: 
 EC Kreisverband Mühlacker-Mühlhausen
DTSTAMP:20260421T100952Z
LOCATION:Freizeitheim Mühlhausen\, Reichardstraße 21\, 75417 Mühlacker
SUMMARY:Ferien ohne Koffer 2026
END:VEVENT
BEGIN:VEVENT
UID:pretix-kvmm-jfz2026-0@tickets.swdec.de
DTSTART;TZID=Europe/Berlin:20260815T010000
DTEND;TZID=Europe/Berlin:20260823T120000
DESCRIPTION:Tickets: https://tickets.swdec.de/kvmm/jfz2026/\nVeranstalter: 
 EC Kreisverband Mühlacker-Mühlhausen
DTSTAMP:20260421T100952Z
LOCATION:Jugend- und Erlebnishaus Eichberg\, Im Fuhracker 568\, CH-9453 Eic
 hberg
SUMMARY:Jugendfreizeit 2026
END:VEVENT
BEGIN:VEVENT
UID:pretix-kvmm-fzje2026-0@tickets.swdec.de
DTSTART;TZID=Europe/Berlin:20260913T100000
DTEND;TZID=Europe/Berlin:20260920T040000
DESCRIPTION:Tickets: https://tickets.swdec.de/kvmm/fzje2026/\nVeranstalter:
  EC Kreisverband Mühlacker-Mühlhausen
DTSTAMP:20260421T100952Z
SUMMARY:Freizeit für Junge Erwachsene 2026
END:VEVENT
END:VCALENDAR
