BEGIN:VCALENDAR
VERSION:2.0
PRODID:-//pretix//SWD-EC_Tickets//
BEGIN:VTIMEZONE
TZID:Europe/Berlin
BEGIN:STANDARD
DTSTART:20001029T040000
RRULE:FREQ=YEARLY;BYDAY=-1SU;BYMONTH=10
TZNAME:CET
TZOFFSETFROM:+0200
TZOFFSETTO:+0100
END:STANDARD
BEGIN:DAYLIGHT
DTSTART:20000326T030000
RRULE:FREQ=YEARLY;BYDAY=-1SU;BYMONTH=3
TZNAME:CEST
TZOFFSETFROM:+0100
TZOFFSETTO:+0200
END:DAYLIGHT
END:VTIMEZONE
BEGIN:VEVENT
UID:pretix-kv-stuttgart-ml2026-0@tickets.swdec.de
DTSTART;TZID=Europe/Berlin:20260814T153000
DTEND;TZID=Europe/Berlin:20260821T110000
DESCRIPTION:Tickets: https://tickets.swdec.de/kv-stuttgart/ml2026/\nVeranst
 alter: KV Stuttgart
DTSTAMP:20260421T171651Z
LOCATION:Am Krotenberg 3\, 89134 Blaustein
SUMMARY:Mädelslager 2026
END:VEVENT
END:VCALENDAR
