BEGIN:VCALENDAR
VERSION:2.0
PRODID:-//pretix//SWD-EC_Tickets//
BEGIN:VEVENT
UID:pretix-kv-stuttgart-jl2026-0@tickets.swdec.de
DTSTART;VALUE=DATE:20260803
DTEND;VALUE=DATE:20260813
DESCRIPTION:Tickets: https://tickets.swdec.de/kv-stuttgart/jl2026/\nVeranst
 alter: KV Stuttgart
DTSTAMP:20260421T171815Z
LOCATION:Am Krotenberg 3\, 89134 Blaustein
SUMMARY:Jungslager 2026
END:VEVENT
END:VCALENDAR
